Workbook

Sheet AYARLAR
A1: BESYOHABER.NET EGZERSİZ PLANI HAZIRLAMA | P1: OLUR METNİ
A3: ADINIZ SOYADINIZ | H3: Mustafa CANKILIÇ | P3: Okulumuz
A5: BRANŞINIZ | H5: Beden Eğitimi Öğretmeni | P5: a-e ait ders dışı egzersiz çalışma planı Milli Eğitim Bakanlığı Personel Genel Müdürlüğü'nün 19/08/2010 tarih ve 2571/53578 (2010/49 No.lu Genelgesi) yazısı çerçevesinde hazırlanmıştır. Makamınızca da uygun görülmesi halinde belirtilen çalışmanın yapılmasını olurunuza arz ederim.
A7: OKULUNUZUN ADI | H7: Toki Şehit Piyade Onbaşı Murat Sıtkı Ortaokulu
P8: PLANI GÖRÜNTÜLE
A9: MÜDÜRÜNÜZÜN ADI | H9: Ertuğrul GÖÇER
A11: İLGİLİ ŞUBE MÜDÜRÜNÜN ADI | H11: Şube Müdürü
A13: İL İLÇE MİLLİ EĞİTİM MÜDÜRÜNÜN ADI | H13: Haluk ÖZDEMİR
H14: İlçe Milli Eğitim Müdürü
A15: ÇALIŞMA NEREDE YAPILACAK | H15: Okul Binası
A17: OKULDAKİ ŞUBE SAYISI | H17: 12
A19: OKULDAKİ HAFTALIK DERS SAATİ SAYISI | H19: 35
A21: BU YILDAKİ EĞİTİM ÖĞRETİM HAFTASI | H21: 36
A23: TARİH | H23: …/09/2023
A25: ÖĞRENCİ SAYISI | H25: 6
A27: ÇALIŞMA SAATLERİ | H27: 15.10-16.50
A29: PLANI GÖRÜNTÜLE

Sheet YILLIK PLAN
A1: TOKİ ŞEHİT PİYADE ONBAŞI MURAT SITKI ORTAOKULU 2022-2023 ÖĞRETİM YILI 6 SAAT DERS DIŞI EGSERSİZ ÇALIŞMA PROGRAMI
AG4: AYARLARA GİT
A5: OKULDAKİ ŞUBE | D5: OKULDAKİ HAFTALIK DERS SAAT SAYISI | G5: OKULDAKİ YILLIK DERS SAAT SAYISI | J5: OKULDAKİ YILLIK DERS SAAT SAYISININ % 6’Sİ | N5: OKULDA YAPILABİLİR DERS DIŞI ETKİNLİK SAYISI | Q5: BİR ETKİNLİĞE DÜŞEN YILLIK DERS SAAT SAYISI | T5: BU ETKİNLİĞE DÜŞEN DERS SAAT SAYISI | W5: DİĞER DERS DIŞI ETKİNLİKLERİN TOPLAM DERS SAATİ SAYISI | AC5: % 6’ DAN KALAN DERS SAAT SAYISI
AG7: Yazdırmak için CRTL+P
A12: AY | B12: Tarih | E12: Saat Aralığı | H12: Ders Sayısı | K12: Çalışma Alanı | O12: Kurs Branşı | R12: Öğrenci Sayısı | U12: İşlenecek Konular
A13: EKİM | B13: 45201 | E13: =AYARLAR!$H$27 -> 15.10-16.50 | H13: 2 Saat | K13: =AYARLAR!$H$15 -> Okul Binası | O13: Masa Tenisi | R13: =AYARLAR!$H$25 -> 6 | U13: Masa Tenisi sporu tarihçesi ve tanıtımı
B14: 45202 | E14: =AYARLAR!$H$27 -> 15.10-16.50 | H14: 2 Saat | K14: =AYARLAR!$H$15 -> Okul Binası | O14: Masa Tenisi | R14: =AYARLAR!$H$25 -> 6 | U14: Oyun alanı tanıtımı
B15: 45204 | E15: =AYARLAR!$H$27 -> 15.10-16.50 | H15: 2 Saat | K15: =AYARLAR!$H$15 -> Okul Binası | O15: Masa Tenisi | R15: =AYARLAR!$H$25 -> 6 | U15: Genel oyun kuralları
B16: 45208 | E16: =AYARLAR!$H$27 -> 15.10-16.50 | H16: 2 Saat | K16: =AYARLAR!$H$15 -> Okul Binası | O16: Masa Tenisi | R16: =AYARLAR!$H$25 -> 6 | U16: Raket tutuş şekilleri öğretimi ve temel pozisyonlar,
B17: 45209 | E17: =AYARLAR!$H$27 -> 15.10-16.50 | H17: 2 Saat | K17: =AYARLAR!$H$15 -> Okul Binası | O17: Masa Tenisi | R17: =AYARLAR!$H$25 -> 6 | U17: Raket tutuş şekilleri öğretimi ve temel pozisyonlar,
B18: 45211 | E18: =AYARLAR!$H$27 -> 15.10-16.50 | H18: 2 Saat | K18: =AYARLAR!$H$15 -> Okul Binası | O18: Masa Tenisi | R18: =AYARLAR!$H$25 -> 6 | U18: Raket top uyumu çalışmaları öğretimi,
B19: 45215 | E19: =AYARLAR!$H$27 -> 15.10-16.50 | H19: 2 Saat | K19: =AYARLAR!$H$15 -> Okul Binası | O19: Masa Tenisi | R19: =AYARLAR!$H$25 -> 6 | U19: Raket top uyumu çalışmaları öğretimi,
B20: 45216 | E20: =AYARLAR!$H$27 -> 15.10-16.50 | H20: 2 Saat | K20: =AYARLAR!$H$15 -> Okul Binası | O20: Masa Tenisi | R20: =AYARLAR!$H$25 -> 6 | U20: Raket top uyumu çalışmaları öğretimi,
B21: 45218 | E21: =AYARLAR!$H$27 -> 15.10-16.50 | H21: 2 Saat | K21: =AYARLAR!$H$15 -> Okul Binası | O21: Masa Tenisi | R21: =AYARLAR!$H$25 -> 6 | U21: Temel duruş ve bekleme pozisyonları anlatımı, uygulaması,
B22: 45222 | E22: =AYARLAR!$H$27 -> 15.10-16.50 | H22: 2 Saat | K22: =AYARLAR!$H$15 -> Okul Binası | O22: Masa Tenisi | R22: =AYARLAR!$H$25 -> 6 | U22: Temel duruş ve bekleme pozisyonları anlatımı, uygulaması,
B23: 45223 | E23: =AYARLAR!$H$27 -> 15.10-16.50 | H23: 2 Saat | K23: =AYARLAR!$H$15 -> Okul Binası | O23: Masa Tenisi | R23: =AYARLAR!$H$25 -> 6 | U23: Forehand tekniği öğretimi,
B24: 45225 | E24: =AYARLAR!$H$27 -> 15.10-16.50 | H24: 2 Saat | K24: =AYARLAR!$H$15 -> Okul Binası | O24: Masa Tenisi | R24: =AYARLAR!$H$25 -> 6 | U24: Forehand tekniği öğretimi,
B25: 45229 | E25: =AYARLAR!$H$27 -> 15.10-16.50 | H25: 2 Saat | K25: =AYARLAR!$H$15 -> Okul Binası | O25: Masa Tenisi | R25: =AYARLAR!$H$25 -> 6 | U25: Forehand tekniği öğretimi,
B26: 45230 | E26: =AYARLAR!$H$27 -> 15.10-16.50 | H26: 2 Saat | K26: =AYARLAR!$H$15 -> Okul Binası | O26: Masa Tenisi | R26: =AYARLAR!$H$25 -> 6 | U26: Forehand tekniği öğretimi,
A27: KASIM | B27: 45232 | E27: =AYARLAR!$H$27 -> 15.10-16.50 | H27: 2 Saat | K27: =AYARLAR!$H$15 -> Okul Binası | O27: Masa Tenisi | R27: =AYARLAR!$H$25 -> 6 | U27: Backhand tekniği öğretimi
B28: 45236 | E28: =AYARLAR!$H$27 -> 15.10-16.50 | H28: 2 Saat | K28: =AYARLAR!$H$15 -> Okul Binası | O28: Masa Tenisi | R28: =AYARLAR!$H$25 -> 6 | U28: Backhand tekniği öğretimi
B29: 45237 | E29: =AYARLAR!$H$27 -> 15.10-16.50 | H29: 2 Saat | K29: =AYARLAR!$H$15 -> Okul Binası | O29: Masa Tenisi | R29: =AYARLAR!$H$25 -> 6 | U29: Backhand tekniği öğretimi
B30: 45239 | E30: =AYARLAR!$H$27 -> 15.10-16.50 | H30: 2 Saat | K30: =AYARLAR!$H$15 -> Okul Binası | O30: Masa Tenisi | R30: =AYARLAR!$H$25 -> 6 | U30: Backhand tekniği öğretimi
B31: 45243 | E31: ARA TATİL
B32: 45244
B33: 45246
B34: 45250 | E34: =AYARLAR!$H$27 -> 15.10-16.50 | H34: 2 Saat | K34: =AYARLAR!$H$15 -> Okul Binası | O34: Masa Tenisi | R34: =AYARLAR!$H$25 -> 6 | U34: Backhand tekniği öğretimi
B35: 45251 | E35: =AYARLAR!$H$27 -> 15.10-16.50 | H35: 2 Saat | K35: =AYARLAR!$H$15 -> Okul Binası | O35: Masa Tenisi | R35: =AYARLAR!$H$25 -> 6 | U35: Backhand tekniği öğretimi
B36: 45253 | E36: =AYARLAR!$H$27 -> 15.10-16.50 | H36: 2 Saat | K36: =AYARLAR!$H$15 -> Okul Binası | O36: Masa Tenisi | R36: =AYARLAR!$H$25 -> 6 | U36: Backhand tekniği öğretimi
B37: 45257 | E37: =AYARLAR!$H$27 -> 15.10-16.50 | H37: 2 Saat | K37: =AYARLAR!$H$15 -> Okul Binası | O37: Masa Tenisi | R37: =AYARLAR!$H$25 -> 6 | U37: Servis çeşitleri anlatımı ve uygulaması,
B38: 45258 | E38: =AYARLAR!$H$27 -> 15.10-16.50 | H38: 2 Saat | K38: =AYARLAR!$H$15 -> Okul Binası | O38: Masa Tenisi | R38: =AYARLAR!$H$25 -> 6 | U38: Servis çeşitleri anlatımı ve uygulaması,
B39: 45260 | E39: =AYARLAR!$H$27 -> 15.10-16.50 | H39: 2 Saat | K39: =AYARLAR!$H$15 -> Okul Binası | O39: Masa Tenisi | R39: =AYARLAR!$H$25 -> 6 | U39: Servis çeşitleri anlatımı ve uygulaması,
A40: ARALIK | B40: 45264 | E40: =AYARLAR!$H$27 -> 15.10-16.50 | H40: 2 Saat | K40: =AYARLAR!$H$15 -> Okul Binası | O40: Masa Tenisi | R40: =AYARLAR!$H$25 -> 6 | U40: Servis çeşitleri anlatımı ve uygulaması,
B41: 45265 | E41: =AYARLAR!$H$27 -> 15.10-16.50 | H41: 2 Saat | K41: =AYARLAR!$H$15 -> Okul Binası | O41: Masa Tenisi | R41: =AYARLAR!$H$25 -> 6 | U41: Servis çeşitleri anlatımı ve uygulaması,
B42: 45267 | E42: =AYARLAR!$H$27 -> 15.10-16.50 | H42: 2 Saat | K42: =AYARLAR!$H$15 -> Okul Binası | O42: Masa Tenisi | R42: =AYARLAR!$H$25 -> 6 | U42: Servis çeşitleri anlatımı ve uygulaması,
B43: 45271 | E43: =AYARLAR!$H$27 -> 15.10-16.50 | H43: 2 Saat | K43: =AYARLAR!$H$15 -> Okul Binası | O43: Masa Tenisi | R43: =AYARLAR!$H$25 -> 6 | U43: Forehand kesik tekniği öğretimi,
B44: 45272 | E44: =AYARLAR!$H$27 -> 15.10-16.50 | H44: 2 Saat | K44: =AYARLAR!$H$15 -> Okul Binası | O44: Masa Tenisi | R44: =AYARLAR!$H$25 -> 6 | U44: Forehand kesik tekniği öğretimi,
B45: 45274 | E45: =AYARLAR!$H$27 -> 15.10-16.50 | H45: 2 Saat | K45: =AYARLAR!$H$15 -> Okul Binası | O45: Masa Tenisi | R45: =AYARLAR!$H$25 -> 6 | U45: Forehand kesik tekniği öğretimi,
B46: 45278 | E46: =AYARLAR!$H$27 -> 15.10-16.50 | H46: 2 Saat | K46: =AYARLAR!$H$15 -> Okul Binası | O46: Masa Tenisi | R46: =AYARLAR!$H$25 -> 6 | U46: Forehand kesik tekniği öğretimi,
B47: 45279 | E47: =AYARLAR!$H$27 -> 15.10-16.50 | H47: 2 Saat | K47: =AYARLAR!$H$15 -> Okul Binası | O47: Masa Tenisi | R47: =AYARLAR!$H$25 -> 6 | U47: Forehand kesik tekniği öğretimi,
B48: 45281 | E48: =AYARLAR!$H$27 -> 15.10-16.50 | H48: 2 Saat | K48: =AYARLAR!$H$15 -> Okul Binası | O48: Masa Tenisi | R48: =AYARLAR!$H$25 -> 6 | U48: Forehand kesik tekniği öğretimi,
B49: 45285 | E49: =AYARLAR!$H$27 -> 15.10-16.50 | H49: 2 Saat | K49: =AYARLAR!$H$15 -> Okul Binası | O49: Masa Tenisi | R49: =AYARLAR!$H$25 -> 6 | U49: Forehand kesik tekniği öğretimi,
B50: 45286 | E50: =AYARLAR!$H$27 -> 15.10-16.50 | H50: 2 Saat | K50: =AYARLAR!$H$15 -> Okul Binası | O50: Masa Tenisi | R50: =AYARLAR!$H$25 -> 6 | U50: Forehand kesik tekniği öğretimi,
B51: 45288 | E51: =AYARLAR!$H$27 -> 15.10-16.50 | H51: 2 Saat | K51: =AYARLAR!$H$15 -> Okul Binası | O51: Masa Tenisi | R51: =AYARLAR!$H$25 -> 6 | U51: Backhand kesik tekniği öğretimi,
A52: OCAK | B52: 45292 | E52: YIL BAŞI TATİLİ
B53: 45293 | E53: =AYARLAR!$H$27 -> 15.10-16.50 | H53: 2 Saat | K53: =AYARLAR!$H$15 -> Okul Binası | O53: Masa Tenisi | R53: =AYARLAR!$H$25 -> 6 | U53: Backhand kesik tekniği öğretimi,
B54: 45295 | E54: =AYARLAR!$H$27 -> 15.10-16.50 | H54: 2 Saat | K54: =AYARLAR!$H$15 -> Okul Binası | O54: Masa Tenisi | R54: =AYARLAR!$H$25 -> 6 | U54: Backhand kesik tekniği öğretimi,
B55: 45299 | E55: =AYARLAR!$H$27 -> 15.10-16.50 | H55: 2 Saat | K55: =AYARLAR!$H$15 -> Okul Binası | O55: Masa Tenisi | R55: =AYARLAR!$H$25 -> 6 | U55: Backhand kesik tekniği öğretimi,
B56: 45300 | E56: =AYARLAR!$H$27 -> 15.10-16.50 | H56: 2 Saat | K56: =AYARLAR!$H$15 -> Okul Binası | O56: Masa Tenisi | R56: =AYARLAR!$H$25 -> 6 | U56: Backhand kesik tekniği öğretimi,
B57: 45302 | E57: =AYARLAR!$H$27 -> 15.10-16.50 | H57: 2 Saat | K57: =AYARLAR!$H$15 -> Okul Binası | O57: Masa Tenisi | R57: =AYARLAR!$H$25 -> 6 | U57: Backhand kesik tekniği öğretimi,
B58: 45306 | E58: =AYARLAR!$H$27 -> 15.10-16.50 | H58: 2 Saat | K58: =AYARLAR!$H$15 -> Okul Binası | O58: Masa Tenisi | R58: =AYARLAR!$H$25 -> 6 | U58: Backhand kesik tekniği öğretimi,
B59: 45307 | E59: =AYARLAR!$H$27 -> 15.10-16.50 | H59: 2 Saat | K59: =AYARLAR!$H$15 -> Okul Binası | O59: Masa Tenisi | R59: =AYARLAR!$H$25 -> 6 | U59: Forehand top spin tekniği öğretimi
B60: 45309 | E60: =AYARLAR!$H$27 -> 15.10-16.50 | H60: 2 Saat | K60: =AYARLAR!$H$15 -> Okul Binası | O60: Masa Tenisi | R60: =AYARLAR!$H$25 -> 6 | U60: Forehand top spin tekniği öğretimi
B61: 45313 | E61: SÖMESTR TATİLİ
B62: 45314
B63: 45316
B64: 45320
B65: 45321
A66: ŞUBAT | B66: 45323
B67: 45327 | E67: =AYARLAR!$H$27 -> 15.10-16.50 | H67: 2 Saat | K67: =AYARLAR!$H$15 -> Okul Binası | O67: Masa Tenisi | R67: =AYARLAR!$H$25 -> 6 | U67: Forehand top spin tekniği öğretimi
B68: 45328 | E68: =AYARLAR!$H$27 -> 15.10-16.50 | H68: 2 Saat | K68: =AYARLAR!$H$15 -> Okul Binası | O68: Masa Tenisi | R68: =AYARLAR!$H$25 -> 6 | U68: Forehand top spin tekniği öğretimi
B69: 45330 | E69: =AYARLAR!$H$27 -> 15.10-16.50 | H69: 2 Saat | K69: =AYARLAR!$H$15 -> Okul Binası | O69: Masa Tenisi | R69: =AYARLAR!$H$25 -> 6 | U69: Forehand top spin tekniği öğretimi
B70: 45334 | E70: =AYARLAR!$H$27 -> 15.10-16.50 | H70: 2 Saat | K70: =AYARLAR!$H$15 -> Okul Binası | O70: Masa Tenisi | R70: =AYARLAR!$H$25 -> 6 | U70: Forehand top spin tekniği öğretimi
B71: 45335 | E71: =AYARLAR!$H$27 -> 15.10-16.50 | H71: 2 Saat | K71: =AYARLAR!$H$15 -> Okul Binası | O71: Masa Tenisi | R71: =AYARLAR!$H$25 -> 6 | U71: Forehand top spin tekniği öğretimi
B72: 45337 | E72: =AYARLAR!$H$27 -> 15.10-16.50 | H72: 2 Saat | K72: =AYARLAR!$H$15 -> Okul Binası | O72: Masa Tenisi | R72: =AYARLAR!$H$25 -> 6 | U72: Forehand top spin tekniği öğretimi
B73: 45341 | E73: =AYARLAR!$H$27 -> 15.10-16.50 | H73: 2 Saat | K73: =AYARLAR!$H$15 -> Okul Binası | O73: Masa Tenisi | R73: =AYARLAR!$H$25 -> 6 | U73: Backhand top spin tekniği öğretimi
B74: 45342 | E74: =AYARLAR!$H$27 -> 15.10-16.50 | H74: 2 Saat | K74: =AYARLAR!$H$15 -> Okul Binası | O74: Masa Tenisi | R74: =AYARLAR!$H$25 -> 6 | U74: Backhand top spin tekniği öğretimi
B75: 45344 | E75: =AYARLAR!$H$27 -> 15.10-16.50 | H75: 2 Saat | K75: =AYARLAR!$H$15 -> Okul Binası | O75: Masa Tenisi | R75: =AYARLAR!$H$25 -> 6 | U75: Backhand top spin tekniği öğretimi
B76: 45348 | E76: =AYARLAR!$H$27 -> 15.10-16.50 | H76: 2 Saat | K76: =AYARLAR!$H$15 -> Okul Binası | O76: Masa Tenisi | R76: =AYARLAR!$H$25 -> 6 | U76: Backhand top spin tekniği öğretimi
B77: 45349 | E77: =AYARLAR!$H$27 -> 15.10-16.50 | H77: 2 Saat | K77: =AYARLAR!$H$15 -> Okul Binası | O77: Masa Tenisi | R77: =AYARLAR!$H$25 -> 6 | U77: Backhand top spin tekniği öğretimi
B78: 45351 | E78: =AYARLAR!$H$27 -> 15.10-16.50 | H78: 2 Saat | K78: =AYARLAR!$H$15 -> Okul Binası | O78: Masa Tenisi | R78: =AYARLAR!$H$25 -> 6 | U78: Backhand top spin tekniği öğretimi
A79: MART | B79: 45355 | E79: =AYARLAR!$H$27 -> 15.10-16.50 | H79: 2 Saat | K79: =AYARLAR!$H$15 -> Okul Binası | O79: Masa Tenisi | R79: =AYARLAR!$H$25 -> 6 | U79: Backhand top spin tekniği öğretimi
B80: 45356 | E80: =AYARLAR!$H$27 -> 15.10-16.50 | H80: 2 Saat | K80: =AYARLAR!$H$15 -> Okul Binası | O80: Masa Tenisi | R80: =AYARLAR!$H$25 -> 6 | U80: Backhand top spin tekniği öğretimi
B81: 45358 | E81: =AYARLAR!$H$27 -> 15.10-16.50 | H81: 2 Saat | K81: =AYARLAR!$H$15 -> Okul Binası | O81: Masa Tenisi | R81: =AYARLAR!$H$25 -> 6 | U81: Top spin teknikleri öğretimi
B82: 45362 | E82: =AYARLAR!$H$27 -> 15.10-16.50 | H82: 2 Saat | K82: =AYARLAR!$H$15 -> Okul Binası | O82: Masa Tenisi | R82: =AYARLAR!$H$25 -> 6 | U82: Top spin teknikleri öğretimi
B83: 45363 | E83: =AYARLAR!$H$27 -> 15.10-16.50 | H83: 2 Saat | K83: =AYARLAR!$H$15 -> Okul Binası | O83: Masa Tenisi | R83: =AYARLAR!$H$25 -> 6 | U83: Top spin teknikleri öğretimi
B84: 45365 | E84: =AYARLAR!$H$27 -> 15.10-16.50 | H84: 2 Saat | K84: =AYARLAR!$H$15 -> Okul Binası | O84: Masa Tenisi | R84: =AYARLAR!$H$25 -> 6 | U84: Top spin teknikleri öğretimi
B85: 45369 | E85: =AYARLAR!$H$27 -> 15.10-16.50 | H85: 2 Saat | K85: =AYARLAR!$H$15 -> Okul Binası | O85: Masa Tenisi | R85: =AYARLAR!$H$25 -> 6 | U85: Top spin teknikleri öğretimi
B86: 45370 | E86: =AYARLAR!$H$27 -> 15.10-16.50 | H86: 2 Saat | K86: =AYARLAR!$H$15 -> Okul Binası | O86: Masa Tenisi | R86: =AYARLAR!$H$25 -> 6 | U86: Top spin teknikleri öğretimi
B87: 45372 | E87: =AYARLAR!$H$27 -> 15.10-16.50 | H87: 2 Saat | K87: =AYARLAR!$H$15 -> Okul Binası | O87: Masa Tenisi | R87: =AYARLAR!$H$25 -> 6 | U87: Top spin teknikleri öğretimi
B88: 45376 | E88: =AYARLAR!$H$27 -> 15.10-16.50 | H88: 2 Saat | K88: =AYARLAR!$H$15 -> Okul Binası | O88: Masa Tenisi | R88: =AYARLAR!$H$25 -> 6 | U88: Top spin teknikleri öğretimi
B89: 45377 | E89: =AYARLAR!$H$27 -> 15.10-16.50 | H89: 2 Saat | K89: =AYARLAR!$H$15 -> Okul Binası | O89: Masa Tenisi | R89: =AYARLAR!$H$25 -> 6 | U89: Forehand spin çeşitleri öğretimi
B90: 45379 | E90: =AYARLAR!$H$27 -> 15.10-16.50 | H90: 2 Saat | K90: =AYARLAR!$H$15 -> Okul Binası | O90: Masa Tenisi | R90: =AYARLAR!$H$25 -> 6 | U90: Forehand spin çeşitleri öğretimi
A91: NİSAN | B91: 45383 | E91: =AYARLAR!$H$27 -> 15.10-16.50 | H91: 2 Saat | K91: =AYARLAR!$H$15 -> Okul Binası | O91: Masa Tenisi | R91: =AYARLAR!$H$25 -> 6 | U91: Forehand spin çeşitleri öğretimi
B92: 45384 | E92: =AYARLAR!$H$27 -> 15.10-16.50 | H92: 2 Saat | K92: =AYARLAR!$H$15 -> Okul Binası | O92: Masa Tenisi | R92: =AYARLAR!$H$25 -> 6 | U92: Forehand spin çeşitleri öğretimi
B93: 45386 | E93: =AYARLAR!$H$27 -> 15.10-16.50 | H93: 2 Saat | K93: =AYARLAR!$H$15 -> Okul Binası | O93: Masa Tenisi | R93: =AYARLAR!$H$25 -> 6 | U93: Forehand spin çeşitleri öğretimi
B94: 45390 | E94: ARA TATİL - BAYRAM TATİLİ
B95: 45391
B96: 45393
B97: 45397 | E97: =AYARLAR!$H$27 -> 15.10-16.50 | H97: 2 Saat | K97: =AYARLAR!$H$15 -> Okul Binası | O97: Masa Tenisi | R97: =AYARLAR!$H$25 -> 6 | U97: Forehand spin çeşitleri öğretimi
B98: 45398 | E98: =AYARLAR!$H$27 -> 15.10-16.50 | H98: 2 Saat | K98: =AYARLAR!$H$15 -> Okul Binası | O98: Masa Tenisi | R98: =AYARLAR!$H$25 -> 6 | U98: Forehand spin çeşitleri öğretimi
B99: 45400 | E99: =AYARLAR!$H$27 -> 15.10-16.50 | H99: 2 Saat | K99: =AYARLAR!$H$15 -> Okul Binası | O99: Masa Tenisi | R99: =AYARLAR!$H$25 -> 6 | U99: Forehand spin çeşitleri öğretimi
B100: 45404 | E100: =AYARLAR!$H$27 -> 15.10-16.50 | H100: 2 Saat | K100: =AYARLAR!$H$15 -> Okul Binası | O100: Masa Tenisi | R100: =AYARLAR!$H$25 -> 6 | U100: Forehand blok tekniği öğretimi
B101: 45405 | E101: ULUSAL EGEMENLİK VE ÇOCUK BAYRAMI
B102: 45407 | E102: =AYARLAR!$H$27 -> 15.10-16.50 | H102: 2 Saat | K102: =AYARLAR!$H$15 -> Okul Binası | O102: Masa Tenisi | R102: =AYARLAR!$H$25 -> 6 | U102: Forehand blok tekniği öğretimi
B103: 45411 | E103: =AYARLAR!$H$27 -> 15.10-16.50 | H103: 2 Saat | K103: =AYARLAR!$H$15 -> Okul Binası | O103: Masa Tenisi | R103: =AYARLAR!$H$25 -> 6 | U103: Forehand blok tekniği öğretimi
B104: 45412 | E104: =AYARLAR!$H$27 -> 15.10-16.50 | H104: 2 Saat | K104: =AYARLAR!$H$15 -> Okul Binası | O104: Masa Tenisi | R104: =AYARLAR!$H$25 -> 6 | U104: Backhand blok tekniği öğretimi
A105: MAYIS | B105: 45414 | E105: =AYARLAR!$H$27 -> 15.10-16.50 | H105: 2 Saat | K105: =AYARLAR!$H$15 -> Okul Binası | O105: Masa Tenisi | R105: =AYARLAR!$H$25 -> 6 | U105: Backhand blok tekniği öğretimi
B106: 45418 | E106: =AYARLAR!$H$27 -> 15.10-16.50 | H106: 2 Saat | K106: =AYARLAR!$H$15 -> Okul Binası | O106: Masa Tenisi | R106: =AYARLAR!$H$25 -> 6 | U106: Backhand blok tekniği öğretimi
B107: 45419 | E107: =AYARLAR!$H$27 -> 15.10-16.50 | H107: 2 Saat | K107: =AYARLAR!$H$15 -> Okul Binası | O107: Masa Tenisi | R107: =AYARLAR!$H$25 -> 6 | U107: Backhand blok tekniği öğretimi
...

Sheet Sayfa2
A13: 45201 | D13: =A13 -> 45201
A14: 45202 | D14: =A14 -> 45202
A15: 45204 | D15: =A15 -> 45204
A16: =A13+7 -> 45208 | D16: =A16 -> 45208
A17: =A14+7 -> 45209 | D17: =A17 -> 45209
A18: =A15+7 -> 45211 | D18: =A18 -> 45211
A19: =A16+7 -> 45215 | D19: =A19 -> 45215
A20: =A17+7 -> 45216 | D20: =A20 -> 45216
A21: =A18+7 -> 45218 | D21: =A21 -> 45218
A22: =A19+7 -> 45222 | D22: =A22 -> 45222
A23: =A20+7 -> 45223 | D23: =A23 -> 45223
A24: =A21+7 -> 45225 | D24: =A24 -> 45225
A25: =A22+7 -> 45229 | D25: =A25 -> 45229
A26: =A23+7 -> 45230 | D26: =A26 -> 45230
A27: =A24+7 -> 45232 | D27: =A27 -> 45232
... A126: =A123+7 -> 45463 | D126: =A126 -> 45463
