Workbook

Sheet AYARLAR
A1: BESYOHABER.NET EGZERSİZ PLANI HAZIRLAMA | P1: OLUR METNİ
A3: ADINIZ SOYADINIZ | H3: Mustafa CANKILIÇ | P3: Okulumuz
A5: BRANŞINIZ | H5: Beden Eğitimi Öğretmeni | P5: a-e ait ders dışı egzersiz çalışma planı Milli Eğitim Bakanlığı Personel Genel Müdürlüğü'nün 19/08/2010 tarih ve 2571/53578 (2010/49 No.lu Genelgesi) yazısı çerçevesinde hazırlanmıştır. Makamınızca da uygun görülmesi halinde belirtilen çalışmanın yapılmasını olurunuza arz ederim.
A7: OKULUNUZUN ADI | H7: Toki Şehit Piyade Onbaşı Murat Sıtkı Ortaokulu
P8: PLANI GÖRÜNTÜLE
A9: MÜDÜRÜNÜZÜN ADI | H9: Ertuğrul GÖÇER
A11: İLGİLİ ŞUBE MÜDÜRÜNÜN ADI | H11: Şube Müdürü
A13: İL İLÇE MİLLİ EĞİTİM MÜDÜRÜNÜN ADI | H13: Haluk ÖZDEMİR
H14: İlçe Milli Eğitim Müdürü
A15: ÇALIŞMA NEREDE YAPILACAK | H15: Okul Binası
A17: OKULDAKİ ŞUBE SAYISI | H17: 12
A19: OKULDAKİ HAFTALIK DERS SAATİ SAYISI | H19: 35
A21: BU YILDAKİ EĞİTİM ÖĞRETİM HAFTASI | H21: 36
A23: TARİH | H23: …/09/2023
A25: ÖĞRENCİ SAYISI | H25: 6
A27: ÇALIŞMA SAATLERİ | H27: 15.10-16.50
A29: PLANI GÖRÜNTÜLE

Sheet YILLIK PLAN
A1: TOKİ ŞEHİT PİYADE ONBAŞI MURAT SITKI ORTAOKULU 2022-2023 ÖĞRETİM YILI 6 SAAT DERS DIŞI EGSERSİZ ÇALIŞMA PROGRAMI
AG4: AYARLARA GİT
A5: OKULDAKİ ŞUBE | D5: OKULDAKİ HAFTALIK DERS SAAT SAYISI | G5: OKULDAKİ YILLIK DERS SAAT SAYISI | J5: OKULDAKİ YILLIK DERS SAAT SAYISININ % 6’Sİ | N5: OKULDA YAPILABİLİR DERS DIŞI ETKİNLİK SAYISI | Q5: BİR ETKİNLİĞE DÜŞEN YILLIK DERS SAAT SAYISI | T5: BU ETKİNLİĞE DÜŞEN DERS SAAT SAYISI | W5: DİĞER DERS DIŞI ETKİNLİKLERİN TOPLAM DERS SAATİ SAYISI | AC5: % 6’ DAN KALAN DERS SAAT SAYISI
AG7: Yazdırmak için CRTL+P
A12: AY | B12: Tarih | E12: Saat Aralığı | H12: Ders Sayısı | K12: Çalışma Alanı | O12: Kurs Branşı | R12: Öğrenci Sayısı | U12: İşlenecek Konular
A13: EKİM | B13: 45201 | E13: =AYARLAR!$H$27 -> 15.10-16.50 | H13: 2 Saat | K13: =AYARLAR!$H$15 -> Okul Binası | O13: Masa Tenisi | R13: =AYARLAR!$H$25 -> 6 | U13: Masa Tenisi sporu tarihçesi ve tanıtımı
B14: 45202 | E14: =AYARLAR!$H$27 -> 15.10-16.50 | H14: 2 Saat | K14: =AYARLAR!$H$15 -> Okul Binası | O14: Masa Tenisi | R14: =AYARLAR!$H$25 -> 6 | U14: Oyun alanı tanıtımı
B15: 45204 | E15: =AYARLAR!$H$27 -> 15.10-16.50 | H15: 2 Saat | K15: =AYARLAR!$H$15 -> Okul Binası | O15: Masa Tenisi | R15: =AYARLAR!$H$25 -> 6 | U15: Genel oyun kuralları
B16: 45208 | E16: =AYARLAR!$H$27 -> 15.10-16.50 | H16: 2 Saat | K16: =AYARLAR!$H$15 -> Okul Binası | O16: Masa Tenisi | R16: =AYARLAR!$H$25 -> 6 | U16: Raket tutuş şekilleri öğretimi ve temel pozisyonlar,
B17: 45209 | E17: =AYARLAR!$H$27 -> 15.10-16.50 | H17: 2 Saat | K17: =AYARLAR!$H$15 -> Okul Binası | O17: Masa Tenisi | R17: =AYARLAR!$H$25 -> 6 | U17: Raket tutuş şekilleri öğretimi ve temel pozisyonlar,
B18: 45211 | E18: =AYARLAR!$H$27 -> 15.10-16.50 | H18: 2 Saat | K18: =AYARLAR!$H$15 -> Okul Binası | O18: Masa Tenisi | R18: =AYARLAR!$H$25 -> 6 | U18: Raket top uyumu çalışmaları öğretimi,
B19: 45215 | E19: =AYARLAR!$H$27 -> 15.10-16.50 | H19: 2 Saat | K19: =AYARLAR!$H$15 -> Okul Binası | O19: Masa Tenisi | R19: =AYARLAR!$H$25 -> 6 | U19: Raket top uyumu çalışmaları öğretimi,
B20: 45216 | E20: =AYARLAR!$H$27 -> 15.10-16.50 | H20: 2 Saat | K20: =AYARLAR!$H$15 -> Okul Binası | O20: Masa Tenisi | R20: =AYARLAR!$H$25 -> 6 | U20: Raket top uyumu çalışmaları öğretimi,
B21: 45218 | E21: =AYARLAR!$H$27 -> 15.10-16.50 | H21: 2 Saat | K21: =AYARLAR!$H$15 -> Okul Binası | O21: Masa Tenisi | R21: =AYARLAR!$H$25 -> 6 | U21: Temel duruş ve bekleme pozisyonları anlatımı, uygulaması,
B22: 45222 | E22: =AYARLAR!$H$27 -> 15.10-16.50 | H22: 2 Saat | K22: =AYARLAR!$H$15 -> Okul Binası | O22: Masa Tenisi | R22: =AYARLAR!$H$25 -> 6 | U22: Temel duruş ve bekleme pozisyonları anlatımı, uygulaması,
B23: 45223 | E23: =AYARLAR!$H$27 -> 15.10-16.50 | H23: 2 Saat | K23: =AYARLAR!$H$15 -> Okul Binası | O23: Masa Tenisi | R23: =AYARLAR!$H$25 -> 6 | U23: Forehand tekniği öğretimi,
B24: 45225 | E24: =AYARLAR!$H$27 -> 15.10-16.50 | H24: 2 Saat | K24: =AYARLAR!$H$15 -> Okul Binası | O24: Masa Tenisi | R24: =AYARLAR!$H$25 -> 6 | U24: Forehand tekniği öğretimi,
B25: 45229 | E25: =AYARLAR!$H$27 -> 15.10-16.50 | H25: 2 Saat | K25: =AYARLAR!$H$15 -> Okul Binası | O25: Masa Tenisi | R25: =AYARLAR!$H$25 -> 6 | U25: Forehand tekniği öğretimi,
B26: 45230 | E26: =AYARLAR!$H$27 -> 15.10-16.50 | H26: 2 Saat | K26: =AYARLAR!$H$15 -> Okul Binası | O26: Masa Tenisi | R26: =AYARLAR!$H$25 -> 6 | U26: Forehand tekniği öğretimi,
A27: KASIM | B27: 45232 | E27: =AYARLAR!$H$27 -> 15.10-16.50 | H27: 2 Saat | K27: =AYARLAR!$H$15 -> Okul Binası | O27: Masa Tenisi | R27: =AYARLAR!$H$25 -> 6 | U27: Backhand tekniği öğretimi
B28: 45236 | E28: =AYARLAR!$H$27 -> 15.10-16.50 | H28: 2 Saat | K28: =AYARLAR!$H$15 -> Okul Binası | O28: Masa Tenisi | R28: =AYARLAR!$H$25 -> 6 | U28: Backhand tekniği öğretimi
B29: 45237 | E29: =AYARLAR!$H$27 -> 15.10-16.50 | H29: 2 Saat | K29: =AYARLAR!$H$15 -> Okul Binası | O29: Masa Tenisi | R29: =AYARLAR!$H$25 -> 6 | U29: Backhand tekniği öğretimi
B30: 45239 | E30: =AYARLAR!$H$27 -> 15.10-16.50 | H30: 2 Saat | K30: =AYARLAR!$H$15 -> Okul Binası | O30: Masa Tenisi | R30: =AYARLAR!$H$25 -> 6 | U30: Backhand tekniği öğretimi
B31: 45243 | E31: ARA TATİL
B32: 45244
B33: 45246
B34: 45250 | E34: =AYARLAR!$H$27 -> 15.10-16.50 | H34: 2 Saat | K34: =AYARLAR!$H$15 -> Okul Binası | O34: Masa Tenisi | R34: =AYARLAR!$H$25 -> 6 | U34: Backhand tekniği öğretimi
B35: 45251 | E35: =AYARLAR!$H$27 -> 15.10-16.50 | H35: 2 Saat | K35: =AYARLAR!$H$15 -> Okul Binası | O35: Masa Tenisi | R35: =AYARLAR!$H$25 -> 6 | U35: Backhand tekniği öğretimi
B36: 45253 | E36: =AYARLAR!$H$27 -> 15.10-16.50 | H36: 2 Saat | K36: =AYARLAR!$H$15 -> Okul Binası | O36: Masa Tenisi | R36: =AYARLAR!$H$25 -> 6 | U36: Backhand tekniği öğretimi
B37: 45257 | E37: =AYARLAR!$H$27 -> 15.10-16.50 | H37: 2 Saat | K37: =AYARLAR!$H$15 -> Okul Binası | O37: Masa Tenisi | R37: =AYARLAR!$H$25 -> 6 | U37: Servis çeşitleri anlatımı ve uygulaması,
B38: 45258 | E38: =AYARLAR!$H$27 -> 15.10-16.50 | H38: 2 Saat | K38: =AYARLAR!$H$15 -> Okul Binası | O38: Masa Tenisi | R38: =AYARLAR!$H$25 -> 6 | U38: Servis çeşitleri anlatımı ve uygulaması,
B39: 45260 | E39: =AYARLAR!$H$27 -> 15.10-16.50 | H39: 2 Saat | K39: =AYARLAR!$H$15 -> Okul Binası | O39: Masa Tenisi | R39: =AYARLAR!$H$25 -> 6 | U39: Servis çeşitleri anlatımı ve uygulaması,
A40: ARALIK | B40: 45264 | E40: =AYARLAR!$H$27 -> 15.10-16.50 | H40: 2 Saat | K40: =AYARLAR!$H$15 -> Okul Binası | O40: Masa Tenisi | R40: =AYARLAR!$H$25 -> 6 | U40: Servis çeşitleri anlatımı ve uygulaması,
B41: 45265 | E41: =AYARLAR!$H$27 -> 15.10-16.50 | H41: 2 Saat | K41: =AYARLAR!$H$15 -> Okul Binası | O41: Masa Tenisi | R41: =AYARLAR!$H$25 -> 6 | U41: Servis çeşitleri anlatımı ve uygulaması,
B42: 45267 | E42: =AYARLAR!$H$27 -> 15.10-16.50 | H42: 2 Saat | K42: =AYARLAR!$H$15 -> Okul Binası | O42: Masa Tenisi | R42: =AYARLAR!$H$25 -> 6 | U42: Servis çeşitleri anlatımı ve uygulaması,
B43: 45271 | E43: =AYARLAR!$H$27 -> 15.10-16.50 | H43: 2 Saat | K43: =AYARLAR!$H$15 -> Okul Binası | O43: Masa Tenisi | R43: =AYARLAR!$H$25 -> 6 | U43: Forehand kesik tekniği öğretimi,
B44: 45272 | E44: =AYARLAR!$H$27 -> 15.10-16.50 | H44: 2 Saat | K44: =AYARLAR!$H$15 -> Okul Binası | O44: Masa Tenisi | R44: =AYARLAR!$H$25 -> 6 | U44: Forehand kesik tekniği öğretimi,
B45: 45274 | E45: =AYARLAR!$H$27 -> 15.10-16.50 | H45: 2 Saat | K45: =AYARLAR!$H$15 -> Okul Binası | O45: Masa Tenisi | R45: =AYARLAR!$H$25 -> 6 | U45: Forehand kesik tekniği öğretimi,
B46: 45278 | E46: =AYARLAR!$H$27 -> 15.10-16.50 | H46: 2 Saat | K46: =AYARLAR!$H$15 -> Okul Binası | O46: Masa Tenisi | R46: =AYARLAR!$H$25 -> 6 | U46: Forehand kesik tekniği öğretimi,
B47: 45279 | E47: =AYARLAR!$H$27 -> 15.10-16.50 | H47: 2 Saat | K47: =AYARLAR!$H$15 -> Okul Binası | O47: Masa Tenisi | R47: =AYARLAR!$H$25 -> 6 | U47: Forehand kesik tekniği öğretimi,
...

Sheet Sayfa2
A13: 45201 | D13: =A13 -> 45201
A14: 45202 | D14: =A14 -> 45202
A15: 45204 | D15: =A15 -> 45204
A16: =A13+7 -> 45208 | D16: =A16 -> 45208
A17: =A14+7 -> 45209 | D17: =A17 -> 45209
A18: =A15+7 -> 45211 | D18: =A18 -> 45211
A19: =A16+7 -> 45215 | D19: =A19 -> 45215
A20: =A17+7 -> 45216 | D20: =A20 -> 45216
A21: =A18+7 -> 45218 | D21: =A21 -> 45218
A22: =A19+7 -> 45222 | D22: =A22 -> 45222
A23: =A20+7 -> 45223 | D23: =A23 -> 45223
A24: =A21+7 -> 45225 | D24: =A24 -> 45225
A25: =A22+7 -> 45229 | D25: =A25 -> 45229
A26: =A23+7 -> 45230 | D26: =A26 -> 45230
A27: =A24+7 -> 45232 | D27: =A27 -> 45232
... A126: =A123+7 -> 45463 | D126: =A126 -> 45463
